BEGIN:VCALENDAR
VERSION:2.0
PRODID:-//Michigan Farmers Union - ECPv6.6.4.2//NONSGML v1.0//EN
CALSCALE:GREGORIAN
METHOD:PUBLISH
X-WR-CALNAME:Michigan Farmers Union
X-ORIGINAL-URL:https://michiganfarmersunion.org
X-WR-CALDESC:Events for Michigan Farmers Union
REFRESH-INTERVAL;VALUE=DURATION:PT1H
X-Robots-Tag:noindex
X-PUBLISHED-TTL:PT1H
BEGIN:VTIMEZONE
TZID:UTC
BEGIN:STANDARD
TZOFFSETFROM:+0000
TZOFFSETTO:+0000
TZNAME:UTC
DTSTART:20180101T000000
END:STANDARD
TZID:Asia/Karachi
BEGIN:STANDARD
TZOFFSETFROM:+0500
TZOFFSETTO:+0500
TZNAME:PKT
DTSTART:20170101T000000
END:STANDARD
END:VTIMEZONE
BEGIN:VEVENT
DTSTART;TZID=UTC:20181207T093000
DTEND;TZID=UTC:20181207T150000
DTSTAMP:20260423T143452
CREATED:20181120T221334Z
LAST-MODIFIED:20181120T223610Z
UID:3100-1544175000-1544194800@michiganfarmersunion.org
SUMMARY:2018 Michigan Farmers Union Convention
DESCRIPTION:Friday\, December 7\, 2018\n9:30 AM – 3:00 PM\nAllen Market Place\, 1629 E. Kalamazoo St\, Lansing\, MI 48912\nCreate Member-driven Policy; Elect leadership;\nLearn about and discuss current agricultural issues.\n$10 registration fee includes “Taste the Local Difference” lunch!\n 
URL:https://michiganfarmersunion.org/event/2018-michigan-farmers-union-convention/
LOCATION:Allen Market Place\, 1629 E. Kalamazoo St\, Lansing\, MI\, 48912\, United States
CATEGORIES:Convention
END:VEVENT
BEGIN:VEVENT
DTSTART;TZID=Asia/Karachi:20171130T093000
DTEND;TZID=Asia/Karachi:20171130T150000
DTSTAMP:20260423T143452
CREATED:20171129T194618Z
LAST-MODIFIED:20171129T194854Z
UID:1803-1512034200-1512054000@michiganfarmersunion.org
SUMMARY:Michigan Farmers Union Annual Convention
DESCRIPTION:Michigan Farmers Union 2017 Annual Convention \nThursday\, November 30\, 2017\n9:30 AM coffee; 10:00 AM convene; 3:00 PM adjourn \nRamada\, 7501 West Saginaw Hwy\, Lansing\, MI 48917 \nCreate Member-driven Policy; Elect leadership;\nLearn aboutmand discuss current agricultural issues. \nLunch will be provided – RSVP Ardy Graham (989) 224-2849 or MIFarmersUnion@gmail.com \nGuest rooms 20% special discount – call toll free 877-670-7088 use code #1000007487 or visit WyndhamHotelGroup.com
URL:https://michiganfarmersunion.org/event/michigan-farmers-union-annual-convention/
LOCATION:Allen Market Place\, 1629 E. Kalamazoo St\, Lansing\, MI\, 48912\, United States
CATEGORIES:Convention
ATTACH;FMTTYPE=image/png:https://michiganfarmersunion.org/wp-content/uploads/sites/12/2017/11/Michigan_CMYK_CS3_stacked.png
END:VEVENT
END:VCALENDAR